Package: BiocWorkflowTools Version: 1.33.0 Command: /Library/Frameworks/R.framework/Resources/bin/R CMD INSTALL BiocWorkflowTools StartedAt: 2025-02-09 15:25:59 -0500 (Sun, 09 Feb 2025) EndedAt: 2025-02-09 15:26:05 -0500 (Sun, 09 Feb 2025) EllapsedTime: 5.9 seconds RetCode: 0 Status: OK