Package: BiocWorkflowTools Version: 1.33.0 Command: rm -rf BiocWorkflowTools.buildbin-libdir && mkdir BiocWorkflowTools.buildbin-libdir && E:\biocbuild\bbs-3.21-bioc\R\bin\R.exe CMD INSTALL --build --library=BiocWorkflowTools.buildbin-libdir BiocWorkflowTools_1.33.0.tar.gz StartedAt: 2025-02-10 07:18:39 -0500 (Mon, 10 Feb 2025) EndedAt: 2025-02-10 07:19:46 -0500 (Mon, 10 Feb 2025) EllapsedTime: 66.6 seconds RetCode: 0 Status: OK PackageFile: BiocWorkflowTools_1.33.0.zip PackageFileSize: 694.2 KiB