Package: BiocWorkflowTools Version: 1.33.0 Command: chmod a+r BiocWorkflowTools -R && E:\biocbuild\bbs-3.21-bioc\R\bin\R.exe CMD build --keep-empty-dirs --no-resave-data BiocWorkflowTools StartedAt: 2025-02-09 17:30:16 -0500 (Sun, 09 Feb 2025) EndedAt: 2025-02-09 17:30:52 -0500 (Sun, 09 Feb 2025) EllapsedTime: 35.5 seconds RetCode: 0 Status: OK PackageFile: BiocWorkflowTools_1.33.0.tar.gz PackageFileSize: 974.9 KiB