Package: Biostrings Version: 2.75.3 Command: rm -rf Biostrings.buildbin-libdir && mkdir Biostrings.buildbin-libdir && /Users/biocbuild/BBS/utils/build-universal.sh Biostrings_2.75.3.tar.gz /Library/Frameworks/R.framework/Resources/bin/R Biostrings.buildbin-libdir StartedAt: 2025-02-12 22:12:37 -0500 (Wed, 12 Feb 2025) EndedAt: 2025-02-12 22:12:52 -0500 (Wed, 12 Feb 2025) EllapsedTime: 14.3 seconds RetCode: 0 Status: OK PackageFile: Biostrings_2.75.3.tgz PackageFileSize: 13.5 MiB