Package: Biostrings Version: 2.75.3 Command: /home/biocbuild/R/R/bin/R CMD INSTALL Biostrings StartedAt: 2025-01-29 19:37:11 -0000 (Wed, 29 Jan 2025) EndedAt: 2025-01-29 19:37:53 -0000 (Wed, 29 Jan 2025) EllapsedTime: 42.5 seconds RetCode: 0 Status: OK