Package: Biostrings Version: 2.75.3 Command: /Library/Frameworks/R.framework/Resources/bin/R CMD build --keep-empty-dirs --no-resave-data Biostrings StartedAt: 2025-02-09 16:04:27 -0500 (Sun, 09 Feb 2025) EndedAt: 2025-02-09 16:05:32 -0500 (Sun, 09 Feb 2025) EllapsedTime: 65.0 seconds RetCode: 0 Status: OK PackageFile: Biostrings_2.75.3.tar.gz PackageFileSize: 12.23 MiB