Package: Biostrings Version: 2.75.3 Command: /Library/Frameworks/R.framework/Resources/bin/R CMD INSTALL Biostrings StartedAt: 2025-02-12 15:08:55 -0500 (Wed, 12 Feb 2025) EndedAt: 2025-02-12 15:09:29 -0500 (Wed, 12 Feb 2025) EllapsedTime: 34.3 seconds RetCode: 0 Status: OK