############################################################################## ############################################################################## ### ### Running command: ### ### /home/biocbuild/bbs-3.21-bioc/R/bin/R CMD INSTALL Biostrings ### ############################################################################## ############################################################################## * installing to library ‘/home/biocbuild/bbs-3.21-bioc/R/site-library’ * installing *source* package ‘Biostrings’ ... ** this is package ‘Biostrings’ version ‘2.75.3’ ** using staged installation ** libs using C compiler: ‘gcc (Ubuntu 13.3.0-6ubuntu2~24.04) 13.3.0’ gcc -I"/home/biocbuild/bbs-3.21-bioc/R/include" -DNDEBUG -I'/home/biocbuild/bbs-3.21-bioc/R/site-library/S4Vectors/include' -I'/home/biocbuild/bbs-3.21-bioc/R/site-library/IRanges/include' -I'/home/biocbuild/bbs-3.21-bioc/R/site-library/XVector/include' -I/usr/local/include -fpic -g -O2 -c BAB_class.c -o BAB_class.o gcc -I"/home/biocbuild/bbs-3.21-bioc/R/include" -DNDEBUG -I'/home/biocbuild/bbs-3.21-bioc/R/site-library/S4Vectors/include' -I'/home/biocbuild/bbs-3.21-bioc/R/site-library/IRanges/include' -I'/home/biocbuild/bbs-3.21-bioc/R/site-library/XVector/include' -I/usr/local/include -fpic -g -O2 -c BitMatrix.c -o BitMatrix.o gcc -I"/home/biocbuild/bbs-3.21-bioc/R/include" -DNDEBUG -I'/home/biocbuild/bbs-3.21-bioc/R/site-library/S4Vectors/include' -I'/home/biocbuild/bbs-3.21-bioc/R/site-library/IRanges/include' -I'/home/biocbuild/bbs-3.21-bioc/R/site-library/XVector/include' -I/usr/local/include -fpic -g -O2 -c IRanges_stubs.c -o IRanges_stubs.o gcc -I"/home/biocbuild/bbs-3.21-bioc/R/include" -DNDEBUG -I'/home/biocbuild/bbs-3.21-bioc/R/site-library/S4Vectors/include' -I'/home/biocbuild/bbs-3.21-bioc/R/site-library/IRanges/include' -I'/home/biocbuild/bbs-3.21-bioc/R/site-library/XVector/include' -I/usr/local/include -fpic -g -O2 -c MIndex_class.c -o MIndex_class.o gcc -I"/home/biocbuild/bbs-3.21-bioc/R/include" -DNDEBUG -I'/home/biocbuild/bbs-3.21-bioc/R/site-library/S4Vectors/include' -I'/home/biocbuild/bbs-3.21-bioc/R/site-library/IRanges/include' -I'/home/biocbuild/bbs-3.21-bioc/R/site-library/XVector/include' -I/usr/local/include -fpic -g -O2 -c PreprocessedTB_class.c -o PreprocessedTB_class.o gcc -I"/home/biocbuild/bbs-3.21-bioc/R/include" -DNDEBUG -I'/home/biocbuild/bbs-3.21-bioc/R/site-library/S4Vectors/include' -I'/home/biocbuild/bbs-3.21-bioc/R/site-library/IRanges/include' -I'/home/biocbuild/bbs-3.21-bioc/R/site-library/XVector/include' -I/usr/local/include -fpic -g -O2 -c R_init_Biostrings.c -o R_init_Biostrings.o gcc -I"/home/biocbuild/bbs-3.21-bioc/R/include" -DNDEBUG -I'/home/biocbuild/bbs-3.21-bioc/R/site-library/S4Vectors/include' -I'/home/biocbuild/bbs-3.21-bioc/R/site-library/IRanges/include' -I'/home/biocbuild/bbs-3.21-bioc/R/site-library/XVector/include' -I/usr/local/include -fpic -g -O2 -c RoSeqs_utils.c -o RoSeqs_utils.o gcc -I"/home/biocbuild/bbs-3.21-bioc/R/include" -DNDEBUG -I'/home/biocbuild/bbs-3.21-bioc/R/site-library/S4Vectors/include' -I'/home/biocbuild/bbs-3.21-bioc/R/site-library/IRanges/include' -I'/home/biocbuild/bbs-3.21-bioc/R/site-library/XVector/include' -I/usr/local/include -fpic -g -O2 -c S4Vectors_stubs.c -o S4Vectors_stubs.o gcc -I"/home/biocbuild/bbs-3.21-bioc/R/include" -DNDEBUG -I'/home/biocbuild/bbs-3.21-bioc/R/site-library/S4Vectors/include' -I'/home/biocbuild/bbs-3.21-bioc/R/site-library/IRanges/include' -I'/home/biocbuild/bbs-3.21-bioc/R/site-library/XVector/include' -I/usr/local/include -fpic -g -O2 -c SparseList_utils.c -o SparseList_utils.o gcc -I"/home/biocbuild/bbs-3.21-bioc/R/include" -DNDEBUG -I'/home/biocbuild/bbs-3.21-bioc/R/site-library/S4Vectors/include' -I'/home/biocbuild/bbs-3.21-bioc/R/site-library/IRanges/include' -I'/home/biocbuild/bbs-3.21-bioc/R/site-library/XVector/include' -I/usr/local/include -fpic -g -O2 -c XStringSetList_class.c -o XStringSetList_class.o gcc -I"/home/biocbuild/bbs-3.21-bioc/R/include" -DNDEBUG -I'/home/biocbuild/bbs-3.21-bioc/R/site-library/S4Vectors/include' -I'/home/biocbuild/bbs-3.21-bioc/R/site-library/IRanges/include' -I'/home/biocbuild/bbs-3.21-bioc/R/site-library/XVector/include' -I/usr/local/include -fpic -g -O2 -c XStringSet_class.c -o XStringSet_class.o gcc -I"/home/biocbuild/bbs-3.21-bioc/R/include" -DNDEBUG -I'/home/biocbuild/bbs-3.21-bioc/R/site-library/S4Vectors/include' -I'/home/biocbuild/bbs-3.21-bioc/R/site-library/IRanges/include' -I'/home/biocbuild/bbs-3.21-bioc/R/site-library/XVector/include' -I/usr/local/include -fpic -g -O2 -c XString_class.c -o XString_class.o gcc -I"/home/biocbuild/bbs-3.21-bioc/R/include" -DNDEBUG -I'/home/biocbuild/bbs-3.21-bioc/R/site-library/S4Vectors/include' -I'/home/biocbuild/bbs-3.21-bioc/R/site-library/IRanges/include' -I'/home/biocbuild/bbs-3.21-bioc/R/site-library/XVector/include' -I/usr/local/include -fpic -g -O2 -c XVector_stubs.c -o XVector_stubs.o gcc -I"/home/biocbuild/bbs-3.21-bioc/R/include" -DNDEBUG -I'/home/biocbuild/bbs-3.21-bioc/R/site-library/S4Vectors/include' -I'/home/biocbuild/bbs-3.21-bioc/R/site-library/IRanges/include' -I'/home/biocbuild/bbs-3.21-bioc/R/site-library/XVector/include' -I/usr/local/include -fpic -g -O2 -c find_palindromes.c -o find_palindromes.o gcc -I"/home/biocbuild/bbs-3.21-bioc/R/include" -DNDEBUG -I'/home/biocbuild/bbs-3.21-bioc/R/site-library/S4Vectors/include' -I'/home/biocbuild/bbs-3.21-bioc/R/site-library/IRanges/include' -I'/home/biocbuild/bbs-3.21-bioc/R/site-library/XVector/include' -I/usr/local/include -fpic -g -O2 -c gtestsim.c -o gtestsim.o gcc -I"/home/biocbuild/bbs-3.21-bioc/R/include" -DNDEBUG -I'/home/biocbuild/bbs-3.21-bioc/R/site-library/S4Vectors/include' -I'/home/biocbuild/bbs-3.21-bioc/R/site-library/IRanges/include' -I'/home/biocbuild/bbs-3.21-bioc/R/site-library/XVector/include' -I/usr/local/include -fpic -g -O2 -c inject_code.c -o inject_code.o gcc -I"/home/biocbuild/bbs-3.21-bioc/R/include" -DNDEBUG -I'/home/biocbuild/bbs-3.21-bioc/R/site-library/S4Vectors/include' -I'/home/biocbuild/bbs-3.21-bioc/R/site-library/IRanges/include' -I'/home/biocbuild/bbs-3.21-bioc/R/site-library/XVector/include' -I/usr/local/include -fpic -g -O2 -c letter_frequency.c -o letter_frequency.o gcc -I"/home/biocbuild/bbs-3.21-bioc/R/include" -DNDEBUG -I'/home/biocbuild/bbs-3.21-bioc/R/site-library/S4Vectors/include' -I'/home/biocbuild/bbs-3.21-bioc/R/site-library/IRanges/include' -I'/home/biocbuild/bbs-3.21-bioc/R/site-library/XVector/include' -I/usr/local/include -fpic -g -O2 -c lowlevel_matching.c -o lowlevel_matching.o gcc -I"/home/biocbuild/bbs-3.21-bioc/R/include" -DNDEBUG -I'/home/biocbuild/bbs-3.21-bioc/R/site-library/S4Vectors/include' -I'/home/biocbuild/bbs-3.21-bioc/R/site-library/IRanges/include' -I'/home/biocbuild/bbs-3.21-bioc/R/site-library/XVector/include' -I/usr/local/include -fpic -g -O2 -c match_PWM.c -o match_PWM.o gcc -I"/home/biocbuild/bbs-3.21-bioc/R/include" -DNDEBUG -I'/home/biocbuild/bbs-3.21-bioc/R/site-library/S4Vectors/include' -I'/home/biocbuild/bbs-3.21-bioc/R/site-library/IRanges/include' -I'/home/biocbuild/bbs-3.21-bioc/R/site-library/XVector/include' -I/usr/local/include -fpic -g -O2 -c match_pattern.c -o match_pattern.o gcc -I"/home/biocbuild/bbs-3.21-bioc/R/include" -DNDEBUG -I'/home/biocbuild/bbs-3.21-bioc/R/site-library/S4Vectors/include' -I'/home/biocbuild/bbs-3.21-bioc/R/site-library/IRanges/include' -I'/home/biocbuild/bbs-3.21-bioc/R/site-library/XVector/include' -I/usr/local/include -fpic -g -O2 -c match_pattern_boyermoore.c -o match_pattern_boyermoore.o gcc -I"/home/biocbuild/bbs-3.21-bioc/R/include" -DNDEBUG -I'/home/biocbuild/bbs-3.21-bioc/R/site-library/S4Vectors/include' -I'/home/biocbuild/bbs-3.21-bioc/R/site-library/IRanges/include' -I'/home/biocbuild/bbs-3.21-bioc/R/site-library/XVector/include' -I/usr/local/include -fpic -g -O2 -c match_pattern_indels.c -o match_pattern_indels.o gcc -I"/home/biocbuild/bbs-3.21-bioc/R/include" -DNDEBUG -I'/home/biocbuild/bbs-3.21-bioc/R/site-library/S4Vectors/include' -I'/home/biocbuild/bbs-3.21-bioc/R/site-library/IRanges/include' -I'/home/biocbuild/bbs-3.21-bioc/R/site-library/XVector/include' -I/usr/local/include -fpic -g -O2 -c match_pattern_shiftor.c -o match_pattern_shiftor.o gcc -I"/home/biocbuild/bbs-3.21-bioc/R/include" -DNDEBUG -I'/home/biocbuild/bbs-3.21-bioc/R/site-library/S4Vectors/include' -I'/home/biocbuild/bbs-3.21-bioc/R/site-library/IRanges/include' -I'/home/biocbuild/bbs-3.21-bioc/R/site-library/XVector/include' -I/usr/local/include -fpic -g -O2 -c match_pdict.c -o match_pdict.o gcc -I"/home/biocbuild/bbs-3.21-bioc/R/include" -DNDEBUG -I'/home/biocbuild/bbs-3.21-bioc/R/site-library/S4Vectors/include' -I'/home/biocbuild/bbs-3.21-bioc/R/site-library/IRanges/include' -I'/home/biocbuild/bbs-3.21-bioc/R/site-library/XVector/include' -I/usr/local/include -fpic -g -O2 -c match_pdict_ACtree2.c -o match_pdict_ACtree2.o gcc -I"/home/biocbuild/bbs-3.21-bioc/R/include" -DNDEBUG -I'/home/biocbuild/bbs-3.21-bioc/R/site-library/S4Vectors/include' -I'/home/biocbuild/bbs-3.21-bioc/R/site-library/IRanges/include' -I'/home/biocbuild/bbs-3.21-bioc/R/site-library/XVector/include' -I/usr/local/include -fpic -g -O2 -c match_pdict_Twobit.c -o match_pdict_Twobit.o gcc -I"/home/biocbuild/bbs-3.21-bioc/R/include" -DNDEBUG -I'/home/biocbuild/bbs-3.21-bioc/R/site-library/S4Vectors/include' -I'/home/biocbuild/bbs-3.21-bioc/R/site-library/IRanges/include' -I'/home/biocbuild/bbs-3.21-bioc/R/site-library/XVector/include' -I/usr/local/include -fpic -g -O2 -c match_pdict_utils.c -o match_pdict_utils.o gcc -I"/home/biocbuild/bbs-3.21-bioc/R/include" -DNDEBUG -I'/home/biocbuild/bbs-3.21-bioc/R/site-library/S4Vectors/include' -I'/home/biocbuild/bbs-3.21-bioc/R/site-library/IRanges/include' -I'/home/biocbuild/bbs-3.21-bioc/R/site-library/XVector/include' -I/usr/local/include -fpic -g -O2 -c match_reporting.c -o match_reporting.o gcc -I"/home/biocbuild/bbs-3.21-bioc/R/include" -DNDEBUG -I'/home/biocbuild/bbs-3.21-bioc/R/site-library/S4Vectors/include' -I'/home/biocbuild/bbs-3.21-bioc/R/site-library/IRanges/include' -I'/home/biocbuild/bbs-3.21-bioc/R/site-library/XVector/include' -I/usr/local/include -fpic -g -O2 -c matchprobes.c -o matchprobes.o gcc -I"/home/biocbuild/bbs-3.21-bioc/R/include" -DNDEBUG -I'/home/biocbuild/bbs-3.21-bioc/R/site-library/S4Vectors/include' -I'/home/biocbuild/bbs-3.21-bioc/R/site-library/IRanges/include' -I'/home/biocbuild/bbs-3.21-bioc/R/site-library/XVector/include' -I/usr/local/include -fpic -g -O2 -c pmatchPattern.c -o pmatchPattern.o gcc -I"/home/biocbuild/bbs-3.21-bioc/R/include" -DNDEBUG -I'/home/biocbuild/bbs-3.21-bioc/R/site-library/S4Vectors/include' -I'/home/biocbuild/bbs-3.21-bioc/R/site-library/IRanges/include' -I'/home/biocbuild/bbs-3.21-bioc/R/site-library/XVector/include' -I/usr/local/include -fpic -g -O2 -c read_fasta_files.c -o read_fasta_files.o gcc -I"/home/biocbuild/bbs-3.21-bioc/R/include" -DNDEBUG -I'/home/biocbuild/bbs-3.21-bioc/R/site-library/S4Vectors/include' -I'/home/biocbuild/bbs-3.21-bioc/R/site-library/IRanges/include' -I'/home/biocbuild/bbs-3.21-bioc/R/site-library/XVector/include' -I/usr/local/include -fpic -g -O2 -c read_fastq_files.c -o read_fastq_files.o gcc -I"/home/biocbuild/bbs-3.21-bioc/R/include" -DNDEBUG -I'/home/biocbuild/bbs-3.21-bioc/R/site-library/S4Vectors/include' -I'/home/biocbuild/bbs-3.21-bioc/R/site-library/IRanges/include' -I'/home/biocbuild/bbs-3.21-bioc/R/site-library/XVector/include' -I/usr/local/include -fpic -g -O2 -c replaceAt.c -o replaceAt.o gcc -I"/home/biocbuild/bbs-3.21-bioc/R/include" -DNDEBUG -I'/home/biocbuild/bbs-3.21-bioc/R/site-library/S4Vectors/include' -I'/home/biocbuild/bbs-3.21-bioc/R/site-library/IRanges/include' -I'/home/biocbuild/bbs-3.21-bioc/R/site-library/XVector/include' -I/usr/local/include -fpic -g -O2 -c replace_letter_at.c -o replace_letter_at.o gcc -I"/home/biocbuild/bbs-3.21-bioc/R/include" -DNDEBUG -I'/home/biocbuild/bbs-3.21-bioc/R/site-library/S4Vectors/include' -I'/home/biocbuild/bbs-3.21-bioc/R/site-library/IRanges/include' -I'/home/biocbuild/bbs-3.21-bioc/R/site-library/XVector/include' -I/usr/local/include -fpic -g -O2 -c strutils.c -o strutils.o gcc -I"/home/biocbuild/bbs-3.21-bioc/R/include" -DNDEBUG -I'/home/biocbuild/bbs-3.21-bioc/R/site-library/S4Vectors/include' -I'/home/biocbuild/bbs-3.21-bioc/R/site-library/IRanges/include' -I'/home/biocbuild/bbs-3.21-bioc/R/site-library/XVector/include' -I/usr/local/include -fpic -g -O2 -c translate.c -o translate.o gcc -I"/home/biocbuild/bbs-3.21-bioc/R/include" -DNDEBUG -I'/home/biocbuild/bbs-3.21-bioc/R/site-library/S4Vectors/include' -I'/home/biocbuild/bbs-3.21-bioc/R/site-library/IRanges/include' -I'/home/biocbuild/bbs-3.21-bioc/R/site-library/XVector/include' -I/usr/local/include -fpic -g -O2 -c unstrsplit_methods.c -o unstrsplit_methods.o gcc -I"/home/biocbuild/bbs-3.21-bioc/R/include" -DNDEBUG -I'/home/biocbuild/bbs-3.21-bioc/R/site-library/S4Vectors/include' -I'/home/biocbuild/bbs-3.21-bioc/R/site-library/IRanges/include' -I'/home/biocbuild/bbs-3.21-bioc/R/site-library/XVector/include' -I/usr/local/include -fpic -g -O2 -c utils.c -o utils.o gcc -I"/home/biocbuild/bbs-3.21-bioc/R/include" -DNDEBUG -I'/home/biocbuild/bbs-3.21-bioc/R/site-library/S4Vectors/include' -I'/home/biocbuild/bbs-3.21-bioc/R/site-library/IRanges/include' -I'/home/biocbuild/bbs-3.21-bioc/R/site-library/XVector/include' -I/usr/local/include -fpic -g -O2 -c xscat.c -o xscat.o gcc -shared -L/home/biocbuild/bbs-3.21-bioc/R/lib -L/usr/local/lib -o Biostrings.so BAB_class.o BitMatrix.o IRanges_stubs.o MIndex_class.o PreprocessedTB_class.o R_init_Biostrings.o RoSeqs_utils.o S4Vectors_stubs.o SparseList_utils.o XStringSetList_class.o XStringSet_class.o XString_class.o XVector_stubs.o find_palindromes.o gtestsim.o inject_code.o letter_frequency.o lowlevel_matching.o match_PWM.o match_pattern.o match_pattern_boyermoore.o match_pattern_indels.o match_pattern_shiftor.o match_pdict.o match_pdict_ACtree2.o match_pdict_Twobit.o match_pdict_utils.o match_reporting.o matchprobes.o pmatchPattern.o read_fasta_files.o read_fastq_files.o replaceAt.o replace_letter_at.o strutils.o translate.o unstrsplit_methods.o utils.o xscat.o -L/home/biocbuild/bbs-3.21-bioc/R/lib -lR installing to /home/biocbuild/bbs-3.21-bioc/R/site-library/00LOCK-Biostrings/00new/Biostrings/libs ** R ** data ** inst ** byte-compile and prepare package for lazy loading in method for ‘twoWayAlphabetFrequencyByQuality’ with signature ‘"QualityScaledXStringSet"’: no definition for class “QualityScaledXStringSet” Creating a new generic function for ‘strsplit’ in package ‘Biostrings’ Creating a generic function for ‘ls’ from package ‘base’ in package ‘Biostrings’ Creating a new generic function for ‘offset’ in package ‘Biostrings’ ** help *** installing help indices ** building package indices ** installing vignettes ** testing if installed package can be loaded from temporary location ** checking absolute paths in shared objects and dynamic libraries ** testing if installed package can be loaded from final location ** testing if installed package keeps a record of temporary installation path * DONE (Biostrings)