Package: Biostrings Version: 2.75.3 Command: /home/biocbuild/bbs-3.21-bioc/R/bin/R CMD INSTALL Biostrings StartedAt: 2025-02-12 15:14:45 -0500 (Wed, 12 Feb 2025) EndedAt: 2025-02-12 15:15:15 -0500 (Wed, 12 Feb 2025) EllapsedTime: 29.7 seconds RetCode: 0 Status: OK