Package: Biostrings Version: 2.75.3 Command: rm -rf Biostrings.buildbin-libdir && mkdir Biostrings.buildbin-libdir && E:\biocbuild\bbs-3.21-bioc\R\bin\R.exe CMD INSTALL --build --library=Biostrings.buildbin-libdir Biostrings_2.75.3.tar.gz StartedAt: 2025-02-10 07:19:35 -0500 (Mon, 10 Feb 2025) EndedAt: 2025-02-10 07:24:45 -0500 (Mon, 10 Feb 2025) EllapsedTime: 310.0 seconds RetCode: 0 Status: OK PackageFile: Biostrings_2.75.3.zip PackageFileSize: 13.1 MiB