Package: Biostrings Version: 2.75.3 Command: E:\biocbuild\bbs-3.21-bioc\R\bin\R.exe CMD INSTALL Biostrings StartedAt: 2025-02-09 15:32:59 -0500 (Sun, 09 Feb 2025) EndedAt: 2025-02-09 15:37:04 -0500 (Sun, 09 Feb 2025) EllapsedTime: 245.1 seconds RetCode: 0 Status: OK