Package: BloodGen3Module Version: 1.15.0 Command: /Library/Frameworks/R.framework/Resources/bin/R CMD build --keep-empty-dirs --no-resave-data BloodGen3Module StartedAt: 2025-02-09 15:43:42 -0500 (Sun, 09 Feb 2025) EndedAt: 2025-02-09 15:44:07 -0500 (Sun, 09 Feb 2025) EllapsedTime: 25.3 seconds RetCode: 0 Status: OK PackageFile: BloodGen3Module_1.15.0.tar.gz PackageFileSize: 178.7 KiB