Package: BloodGen3Module Version: 1.15.0 Command: /Library/Frameworks/R.framework/Resources/bin/R CMD check --install=check:BloodGen3Module.install-out.txt --library=/Library/Frameworks/R.framework/Resources/library --no-vignettes --timings BloodGen3Module_1.15.0.tar.gz StartedAt: 2025-02-09 18:19:14 -0500 (Sun, 09 Feb 2025) EndedAt: 2025-02-09 18:21:09 -0500 (Sun, 09 Feb 2025) EllapsedTime: 114.4 seconds RetCode: 0 Status: WARNINGS CheckDir: BloodGen3Module.Rcheck Warnings: 1