Package: BloodGen3Module Version: 1.15.0 Command: /Library/Frameworks/R.framework/Resources/bin/R CMD build --keep-empty-dirs --no-resave-data BloodGen3Module StartedAt: 2025-02-09 16:06:11 -0500 (Sun, 09 Feb 2025) EndedAt: 2025-02-09 16:07:28 -0500 (Sun, 09 Feb 2025) EllapsedTime: 77.4 seconds RetCode: 0 Status: OK PackageFile: BloodGen3Module_1.15.0.tar.gz PackageFileSize: 178.8 KiB