Package: BridgeDbR Version: 2.17.1 Command: /Library/Frameworks/R.framework/Resources/bin/R CMD INSTALL BridgeDbR StartedAt: 2025-02-12 15:00:56 -0500 (Wed, 12 Feb 2025) EndedAt: 2025-02-12 15:00:58 -0500 (Wed, 12 Feb 2025) EllapsedTime: 1.6 seconds RetCode: 0 Status: OK