Package: BridgeDbR Version: 2.17.1 Command: /Library/Frameworks/R.framework/Resources/bin/R CMD INSTALL BridgeDbR StartedAt: 2025-02-12 15:03:37 -0500 (Wed, 12 Feb 2025) EndedAt: 2025-02-12 15:03:57 -0500 (Wed, 12 Feb 2025) EllapsedTime: 20.4 seconds RetCode: 0 Status: OK