Package: BridgeDbR Version: 2.17.1 Command: /home/biocbuild/bbs-3.21-bioc/R/bin/R CMD check --install=check:BridgeDbR.install-out.txt --library=/home/biocbuild/bbs-3.21-bioc/R/site-library --timings BridgeDbR_2.17.1.tar.gz StartedAt: 2025-02-09 20:34:17 -0500 (Sun, 09 Feb 2025) EndedAt: 2025-02-09 20:34:46 -0500 (Sun, 09 Feb 2025) EllapsedTime: 29.0 seconds RetCode: 0 Status: OK CheckDir: BridgeDbR.Rcheck Warnings: 0