Package: BridgeDbR Version: 2.17.1 Command: /home/biocbuild/bbs-3.21-bioc/R/bin/R CMD INSTALL BridgeDbR StartedAt: 2025-02-09 15:03:55 -0500 (Sun, 09 Feb 2025) EndedAt: 2025-02-09 15:04:13 -0500 (Sun, 09 Feb 2025) EllapsedTime: 18.8 seconds RetCode: 0 Status: OK