Package: BridgeDbR Version: 2.17.1 Command: E:\biocbuild\bbs-3.21-bioc\R\bin\R.exe CMD INSTALL BridgeDbR StartedAt: 2025-02-09 15:18:50 -0500 (Sun, 09 Feb 2025) EndedAt: 2025-02-09 15:19:03 -0500 (Sun, 09 Feb 2025) EllapsedTime: 13.8 seconds RetCode: 0 Status: OK