Package: BrowserViz Version: 2.29.0 Command: /Library/Frameworks/R.framework/Resources/bin/R CMD check --install=check:BrowserViz.install-out.txt --library=/Library/Frameworks/R.framework/Resources/library --no-vignettes --timings BrowserViz_2.29.0.tar.gz StartedAt: 2025-02-12 19:18:59 -0500 (Wed, 12 Feb 2025) EndedAt: 2025-02-12 19:19:39 -0500 (Wed, 12 Feb 2025) EllapsedTime: 39.1 seconds RetCode: 0 Status: OK CheckDir: BrowserViz.Rcheck Warnings: 0