Package: BrowserViz Version: 2.29.0 Command: /home/biocbuild/bbs-3.21-bioc/R/bin/R CMD INSTALL BrowserViz StartedAt: 2025-02-09 15:14:16 -0500 (Sun, 09 Feb 2025) EndedAt: 2025-02-09 15:14:20 -0500 (Sun, 09 Feb 2025) EllapsedTime: 4.0 seconds RetCode: 0 Status: OK