Package: BubbleTree Version: 2.37.0 Command: rm -rf BubbleTree.buildbin-libdir && mkdir BubbleTree.buildbin-libdir && /Users/biocbuild/BBS/utils/build-universal.sh BubbleTree_2.37.0.tar.gz /Library/Frameworks/R.framework/Resources/bin/R BubbleTree.buildbin-libdir StartedAt: 2025-02-09 22:08:01 -0500 (Sun, 09 Feb 2025) EndedAt: 2025-02-09 22:08:24 -0500 (Sun, 09 Feb 2025) EllapsedTime: 22.5 seconds RetCode: 0 Status: OK PackageFile: BubbleTree_2.37.0.tgz PackageFileSize: 27.79 MiB