Package: BubbleTree Version: 2.37.0 Command: /Library/Frameworks/R.framework/Resources/bin/R CMD build --keep-empty-dirs --no-resave-data BubbleTree StartedAt: 2025-02-09 15:45:08 -0500 (Sun, 09 Feb 2025) EndedAt: 2025-02-09 15:46:04 -0500 (Sun, 09 Feb 2025) EllapsedTime: 55.6 seconds RetCode: 0 Status: OK PackageFile: BubbleTree_2.37.0.tar.gz PackageFileSize: 27.91 MiB