Package: BubbleTree Version: 2.37.0 Command: /Library/Frameworks/R.framework/Resources/bin/R CMD check --install=check:BubbleTree.install-out.txt --library=/Library/Frameworks/R.framework/Resources/library --no-vignettes --timings BubbleTree_2.37.0.tar.gz StartedAt: 2025-02-09 18:21:16 -0500 (Sun, 09 Feb 2025) EndedAt: 2025-02-09 18:23:37 -0500 (Sun, 09 Feb 2025) EllapsedTime: 141.7 seconds RetCode: 0 Status: OK CheckDir: BubbleTree.Rcheck Warnings: 0