Package: BubbleTree Version: 2.37.0 Command: /Library/Frameworks/R.framework/Resources/bin/R CMD build --keep-empty-dirs --no-resave-data BubbleTree StartedAt: 2025-02-09 16:07:53 -0500 (Sun, 09 Feb 2025) EndedAt: 2025-02-09 16:10:20 -0500 (Sun, 09 Feb 2025) EllapsedTime: 146.8 seconds RetCode: 0 Status: OK PackageFile: BubbleTree_2.37.0.tar.gz PackageFileSize: 27.85 MiB