Package: BubbleTree Version: 2.37.0 Command: /home/biocbuild/bbs-3.21-bioc/R/bin/R CMD build --keep-empty-dirs --no-resave-data BubbleTree StartedAt: 2025-02-09 16:28:53 -0500 (Sun, 09 Feb 2025) EndedAt: 2025-02-09 16:31:25 -0500 (Sun, 09 Feb 2025) EllapsedTime: 152.1 seconds RetCode: 0 Status: OK PackageFile: BubbleTree_2.37.0.tar.gz PackageFileSize: 27.9 MiB