Package: BubbleTree Version: 2.37.0 Command: /home/biocbuild/bbs-3.21-bioc/R/bin/R CMD check --install=check:BubbleTree.install-out.txt --library=/home/biocbuild/bbs-3.21-bioc/R/site-library --timings BubbleTree_2.37.0.tar.gz StartedAt: 2025-02-09 20:35:25 -0500 (Sun, 09 Feb 2025) EndedAt: 2025-02-09 20:43:04 -0500 (Sun, 09 Feb 2025) EllapsedTime: 459.6 seconds RetCode: 0 Status: OK CheckDir: BubbleTree.Rcheck Warnings: 0