Package: BufferedMatrix Version: 1.71.1 Maintainer: Ben Bolstad MaintainerEmail: bmb at bmbolstad.com git_url: https://git.bioconductor.org/packages/BufferedMatrix git_branch: devel git_last_commit: 824836d git_last_commit_date: 2024-12-14 17:47:34 -0500 (Sat, 14 Dec 2024)