Package: BufferedMatrix Version: 1.71.1 Command: rm -rf BufferedMatrix.buildbin-libdir && mkdir BufferedMatrix.buildbin-libdir && /Users/biocbuild/BBS/utils/build-universal.sh BufferedMatrix_1.71.1.tar.gz /Library/Frameworks/R.framework/Resources/bin/R BufferedMatrix.buildbin-libdir StartedAt: 2025-02-09 22:08:01 -0500 (Sun, 09 Feb 2025) EndedAt: 2025-02-09 22:08:05 -0500 (Sun, 09 Feb 2025) EllapsedTime: 4.1 seconds RetCode: 0 Status: OK PackageFile: BufferedMatrix_1.71.1.tgz PackageFileSize: 707.3 KiB