Package: BufferedMatrix Version: 1.71.1 Command: /Library/Frameworks/R.framework/Resources/bin/R CMD build --keep-empty-dirs --no-resave-data BufferedMatrix StartedAt: 2025-02-04 15:45:31 -0500 (Tue, 04 Feb 2025) EndedAt: 2025-02-04 15:45:36 -0500 (Tue, 04 Feb 2025) EllapsedTime: 5.0 seconds RetCode: 0 Status: OK PackageFile: BufferedMatrix_1.71.1.tar.gz PackageFileSize: 629.9 KiB