Package: BufferedMatrix Version: 1.71.1 Command: /Library/Frameworks/R.framework/Resources/bin/R CMD INSTALL BufferedMatrix StartedAt: 2025-02-04 15:01:10 -0500 (Tue, 04 Feb 2025) EndedAt: 2025-02-04 15:01:13 -0500 (Tue, 04 Feb 2025) EllapsedTime: 2.6 seconds RetCode: 0 Status: OK