Package: BufferedMatrix Version: 1.71.1 Command: /home/biocbuild/R/R/bin/R CMD build --keep-empty-dirs --no-resave-data BufferedMatrix StartedAt: 2025-01-28 21:29:00 -0000 (Tue, 28 Jan 2025) EndedAt: 2025-01-28 21:29:12 -0000 (Tue, 28 Jan 2025) EllapsedTime: 12.0 seconds RetCode: 0 Status: OK PackageFile: BufferedMatrix_1.71.1.tar.gz PackageFileSize: 620.2 KiB