Package: BufferedMatrix Version: 1.71.1 Command: rm -rf BufferedMatrix.buildbin-libdir && mkdir BufferedMatrix.buildbin-libdir && /Users/biocbuild/BBS/utils/build-universal.sh BufferedMatrix_1.71.1.tar.gz /Library/Frameworks/R.framework/Resources/bin/R BufferedMatrix.buildbin-libdir StartedAt: 2025-02-10 00:44:46 -0500 (Mon, 10 Feb 2025) EndedAt: 2025-02-10 00:44:58 -0500 (Mon, 10 Feb 2025) EllapsedTime: 11.6 seconds RetCode: 0 Status: OK PackageFile: BufferedMatrix_1.71.1.tgz PackageFileSize: 708.4 KiB