Package: BufferedMatrix Version: 1.71.1 Command: /Library/Frameworks/R.framework/Resources/bin/R CMD build --keep-empty-dirs --no-resave-data BufferedMatrix StartedAt: 2025-02-09 16:07:59 -0500 (Sun, 09 Feb 2025) EndedAt: 2025-02-09 16:08:14 -0500 (Sun, 09 Feb 2025) EllapsedTime: 14.9 seconds RetCode: 0 Status: OK PackageFile: BufferedMatrix_1.71.1.tar.gz PackageFileSize: 629.3 KiB