Package: BufferedMatrix Version: 1.71.1 Command: /Library/Frameworks/R.framework/Resources/bin/R CMD check --install=check:BufferedMatrix.install-out.txt --library=/Library/Frameworks/R.framework/Resources/library --no-vignettes --timings BufferedMatrix_1.71.1.tar.gz StartedAt: 2025-02-09 19:30:28 -0500 (Sun, 09 Feb 2025) EndedAt: 2025-02-09 19:31:24 -0500 (Sun, 09 Feb 2025) EllapsedTime: 56.6 seconds RetCode: 0 Status: WARNINGS CheckDir: BufferedMatrix.Rcheck Warnings: 1