Package: BufferedMatrix Version: 1.71.1 Command: /home/biocbuild/bbs-3.21-bioc/R/bin/R CMD check --install=check:BufferedMatrix.install-out.txt --library=/home/biocbuild/bbs-3.21-bioc/R/site-library --timings BufferedMatrix_1.71.1.tar.gz StartedAt: 2025-02-09 20:35:33 -0500 (Sun, 09 Feb 2025) EndedAt: 2025-02-09 20:35:58 -0500 (Sun, 09 Feb 2025) EllapsedTime: 25.0 seconds RetCode: 0 Status: OK CheckDir: BufferedMatrix.Rcheck Warnings: 0