Package: BufferedMatrix Version: 1.71.1 Command: /home/biocbuild/bbs-3.21-bioc/R/bin/R CMD INSTALL BufferedMatrix StartedAt: 2025-02-09 15:02:58 -0500 (Sun, 09 Feb 2025) EndedAt: 2025-02-09 15:03:10 -0500 (Sun, 09 Feb 2025) EllapsedTime: 11.8 seconds RetCode: 0 Status: OK