Package: BufferedMatrix Version: 1.71.1 Command: rm -rf BufferedMatrix.buildbin-libdir && mkdir BufferedMatrix.buildbin-libdir && E:\biocbuild\bbs-3.21-bioc\R\bin\R.exe CMD INSTALL --build --library=BufferedMatrix.buildbin-libdir BufferedMatrix_1.71.1.tar.gz StartedAt: 2025-02-05 07:34:00 -0500 (Wed, 05 Feb 2025) EndedAt: 2025-02-05 07:36:51 -0500 (Wed, 05 Feb 2025) EllapsedTime: 170.6 seconds RetCode: 0 Status: OK PackageFile: BufferedMatrix_1.71.1.zip PackageFileSize: 571.9 KiB