Package: BufferedMatrix Version: 1.71.1 Command: chmod a+r BufferedMatrix -R && E:\biocbuild\bbs-3.21-bioc\R\bin\R.exe CMD build --keep-empty-dirs --no-resave-data BufferedMatrix StartedAt: 2025-02-09 17:36:26 -0500 (Sun, 09 Feb 2025) EndedAt: 2025-02-09 17:38:11 -0500 (Sun, 09 Feb 2025) EllapsedTime: 105.7 seconds RetCode: 0 Status: OK PackageFile: BufferedMatrix_1.71.1.tar.gz PackageFileSize: 490.9 KiB