Package: BufferedMatrix Version: 1.71.1 Command: E:\biocbuild\bbs-3.21-bioc\R\bin\R.exe CMD check --no-multiarch --install=check:BufferedMatrix.install-out.txt --library=E:\biocbuild\bbs-3.21-bioc\R\library --no-vignettes --timings BufferedMatrix_1.71.1.tar.gz StartedAt: 2025-02-09 23:15:44 -0500 (Sun, 09 Feb 2025) EndedAt: 2025-02-09 23:18:45 -0500 (Sun, 09 Feb 2025) EllapsedTime: 181.6 seconds RetCode: 0 Status: OK CheckDir: BufferedMatrix.Rcheck Warnings: 0