Package: BufferedMatrixMethods Version: 1.71.1 Command: rm -rf BufferedMatrixMethods.buildbin-libdir && mkdir BufferedMatrixMethods.buildbin-libdir && /Users/biocbuild/BBS/utils/build-universal.sh BufferedMatrixMethods_1.71.1.tar.gz /Library/Frameworks/R.framework/Resources/bin/R BufferedMatrixMethods.buildbin-libdir StartedAt: 2025-02-03 22:43:48 -0500 (Mon, 03 Feb 2025) EndedAt: 2025-02-03 22:43:51 -0500 (Mon, 03 Feb 2025) EllapsedTime: 3.1 seconds RetCode: 0 Status: OK PackageFile: BufferedMatrixMethods_1.71.1.tgz PackageFileSize: 49.79 KiB