Package: BufferedMatrixMethods Version: 1.71.1 Command: /Library/Frameworks/R.framework/Resources/bin/R CMD build --keep-empty-dirs --no-resave-data BufferedMatrixMethods StartedAt: 2025-02-03 16:20:07 -0500 (Mon, 03 Feb 2025) EndedAt: 2025-02-03 16:20:09 -0500 (Mon, 03 Feb 2025) EllapsedTime: 1.0 seconds RetCode: 0 Status: OK PackageFile: BufferedMatrixMethods_1.71.1.tar.gz PackageFileSize: 10.86 KiB