Package: BufferedMatrixMethods Version: 1.71.1 Command: /home/biocbuild/R/R/bin/R CMD build --keep-empty-dirs --no-resave-data BufferedMatrixMethods StartedAt: 2025-01-28 21:29:02 -0000 (Tue, 28 Jan 2025) EndedAt: 2025-01-28 21:29:03 -0000 (Tue, 28 Jan 2025) EllapsedTime: 1.0 seconds RetCode: 0 Status: OK PackageFile: BufferedMatrixMethods_1.71.1.tar.gz PackageFileSize: 10.85 KiB