Package: BufferedMatrixMethods Version: 1.71.1 Command: /Library/Frameworks/R.framework/Resources/bin/R CMD check --install=check:BufferedMatrixMethods.install-out.txt --library=/Library/Frameworks/R.framework/Resources/library --no-vignettes --timings BufferedMatrixMethods_1.71.1.tar.gz StartedAt: 2025-02-09 19:30:31 -0500 (Sun, 09 Feb 2025) EndedAt: 2025-02-09 19:30:59 -0500 (Sun, 09 Feb 2025) EllapsedTime: 27.9 seconds RetCode: 0 Status: OK CheckDir: BufferedMatrixMethods.Rcheck Warnings: 0