Package: BufferedMatrixMethods Version: 1.71.1 Command: /home/biocbuild/bbs-3.21-bioc/R/bin/R CMD build --keep-empty-dirs --no-resave-data BufferedMatrixMethods StartedAt: 2025-02-09 16:29:07 -0500 (Sun, 09 Feb 2025) EndedAt: 2025-02-09 16:29:08 -0500 (Sun, 09 Feb 2025) EllapsedTime: 1.0 seconds RetCode: 0 Status: OK PackageFile: BufferedMatrixMethods_1.71.1.tar.gz PackageFileSize: 10.85 KiB