Package: BufferedMatrixMethods Version: 1.71.1 Command: /home/biocbuild/bbs-3.21-bioc/R/bin/R CMD check --install=check:BufferedMatrixMethods.install-out.txt --library=/home/biocbuild/bbs-3.21-bioc/R/site-library --timings BufferedMatrixMethods_1.71.1.tar.gz StartedAt: 2025-02-09 20:35:45 -0500 (Sun, 09 Feb 2025) EndedAt: 2025-02-09 20:36:00 -0500 (Sun, 09 Feb 2025) EllapsedTime: 15.0 seconds RetCode: 0 Status: OK CheckDir: BufferedMatrixMethods.Rcheck Warnings: 0