Package: BufferedMatrixMethods Version: 1.71.1 Command: /home/biocbuild/bbs-3.21-bioc/R/bin/R CMD INSTALL BufferedMatrixMethods StartedAt: 2025-02-04 15:01:38 -0500 (Tue, 04 Feb 2025) EndedAt: 2025-02-04 15:01:53 -0500 (Tue, 04 Feb 2025) EllapsedTime: 15.5 seconds RetCode: 0 Status: OK