Package: BufferedMatrixMethods Version: 1.71.1 Command: rm -rf BufferedMatrixMethods.buildbin-libdir && mkdir BufferedMatrixMethods.buildbin-libdir && E:\biocbuild\bbs-3.21-bioc\R\bin\R.exe CMD INSTALL --build --library=BufferedMatrixMethods.buildbin-libdir BufferedMatrixMethods_1.71.1.tar.gz StartedAt: 2025-02-10 07:21:28 -0500 (Mon, 10 Feb 2025) EndedAt: 2025-02-10 07:22:55 -0500 (Mon, 10 Feb 2025) EllapsedTime: 86.8 seconds RetCode: 0 Status: OK PackageFile: BufferedMatrixMethods_1.71.1.zip PackageFileSize: 52.96 KiB