Package: BufferedMatrixMethods Version: 1.71.1 Command: chmod a+r BufferedMatrixMethods -R && E:\biocbuild\bbs-3.21-bioc\R\bin\R.exe CMD build --keep-empty-dirs --no-resave-data BufferedMatrixMethods StartedAt: 2025-02-03 17:49:51 -0500 (Mon, 03 Feb 2025) EndedAt: 2025-02-03 17:49:53 -0500 (Mon, 03 Feb 2025) EllapsedTime: 2.3 seconds RetCode: 0 Status: OK PackageFile: BufferedMatrixMethods_1.71.1.tar.gz PackageFileSize: 10.86 KiB