Package: BufferedMatrixMethods Version: 1.71.1 Command: E:\biocbuild\bbs-3.21-bioc\R\bin\R.exe CMD check --no-multiarch --install=check:BufferedMatrixMethods.install-out.txt --library=E:\biocbuild\bbs-3.21-bioc\R\library --no-vignettes --timings BufferedMatrixMethods_1.71.1.tar.gz StartedAt: 2025-02-03 23:45:01 -0500 (Mon, 03 Feb 2025) EndedAt: 2025-02-03 23:46:02 -0500 (Mon, 03 Feb 2025) EllapsedTime: 61.5 seconds RetCode: 0 Status: OK CheckDir: BufferedMatrixMethods.Rcheck Warnings: 0